BEGIN:VCALENDAR
VERSION:2.0
PRODID:-//Capital Area Justice Ministry - ECPv6.15.20//NONSGML v1.0//EN
CALSCALE:GREGORIAN
METHOD:PUBLISH
X-WR-CALNAME:Capital Area Justice Ministry
X-ORIGINAL-URL:https://www.capitalareajustice.org
X-WR-CALDESC:Events for Capital Area Justice Ministry
REFRESH-INTERVAL;VALUE=DURATION:PT1H
X-Robots-Tag:noindex
X-PUBLISHED-TTL:PT1H
BEGIN:VTIMEZONE
TZID:America/New_York
BEGIN:DAYLIGHT
TZOFFSETFROM:-0500
TZOFFSETTO:-0400
TZNAME:EDT
DTSTART:20210314T070000
END:DAYLIGHT
BEGIN:STANDARD
TZOFFSETFROM:-0400
TZOFFSETTO:-0500
TZNAME:EST
DTSTART:20211107T060000
END:STANDARD
BEGIN:DAYLIGHT
TZOFFSETFROM:-0500
TZOFFSETTO:-0400
TZNAME:EDT
DTSTART:20220313T070000
END:DAYLIGHT
BEGIN:STANDARD
TZOFFSETFROM:-0400
TZOFFSETTO:-0500
TZNAME:EST
DTSTART:20221106T060000
END:STANDARD
BEGIN:DAYLIGHT
TZOFFSETFROM:-0500
TZOFFSETTO:-0400
TZNAME:EDT
DTSTART:20230312T070000
END:DAYLIGHT
BEGIN:STANDARD
TZOFFSETFROM:-0400
TZOFFSETTO:-0500
TZNAME:EST
DTSTART:20231105T060000
END:STANDARD
BEGIN:DAYLIGHT
TZOFFSETFROM:-0500
TZOFFSETTO:-0400
TZNAME:EDT
DTSTART:20240310T070000
END:DAYLIGHT
BEGIN:STANDARD
TZOFFSETFROM:-0400
TZOFFSETTO:-0500
TZNAME:EST
DTSTART:20241103T060000
END:STANDARD
BEGIN:DAYLIGHT
TZOFFSETFROM:-0500
TZOFFSETTO:-0400
TZNAME:EDT
DTSTART:20250309T070000
END:DAYLIGHT
BEGIN:STANDARD
TZOFFSETFROM:-0400
TZOFFSETTO:-0500
TZNAME:EST
DTSTART:20251102T060000
END:STANDARD
BEGIN:DAYLIGHT
TZOFFSETFROM:-0500
TZOFFSETTO:-0400
TZNAME:EDT
DTSTART:20260308T070000
END:DAYLIGHT
BEGIN:STANDARD
TZOFFSETFROM:-0400
TZOFFSETTO:-0500
TZNAME:EST
DTSTART:20261101T060000
END:STANDARD
END:VTIMEZONE
BEGIN:VEVENT
DTSTART;TZID=America/New_York:20250526T180000
DTEND;TZID=America/New_York:20250526T200000
DTSTAMP:20260421T213414
CREATED:20250526T075445Z
LAST-MODIFIED:20250526T075445Z
UID:10000102-1748282400-1748289600@www.capitalareajustice.org
SUMMARY:Team Leader Assembly
DESCRIPTION:
URL:https://www.capitalareajustice.org/event/team-leader-assembly-3/
LOCATION:tbd
ATTACH;FMTTYPE=image/webp:https://www.capitalareajustice.org/wp-content/uploads/Network-Assembly4.webp
END:VEVENT
BEGIN:VEVENT
DTSTART;TZID=America/New_York:20230822T180000
DTEND;TZID=America/New_York:20230822T233000
DTSTAMP:20260421T213414
CREATED:20250520T171032Z
LAST-MODIFIED:20250520T171159Z
UID:10000010-1692727200-1692747000@www.capitalareajustice.org
SUMMARY:Board Meeting Orientation
DESCRIPTION:
URL:https://www.capitalareajustice.org/event/board-meeting-orientation/
LOCATION:tbd
ATTACH;FMTTYPE=image/webp:https://www.capitalareajustice.org/wp-content/uploads/Board-Meeting-Orientation-.webp
END:VEVENT
BEGIN:VEVENT
DTSTART;TZID=America/New_York:20230812T100000
DTEND;TZID=America/New_York:20230812T140000
DTSTAMP:20260421T213414
CREATED:20250520T163839Z
LAST-MODIFIED:20250520T163839Z
UID:10000003-1691834400-1691848800@www.capitalareajustice.org
SUMMARY:Planning Retreat
DESCRIPTION:This is a closed planning and logisitics meeting\, for the Capital Area Justice Ministry Executive board members. 
URL:https://www.capitalareajustice.org/event/planning-retreat/
LOCATION:tbd
ATTACH;FMTTYPE=image/webp:https://www.capitalareajustice.org/wp-content/uploads/Planning-Retreat.webp
END:VEVENT
BEGIN:VEVENT
DTSTART;TZID=America/New_York:20221209T093000
DTEND;TZID=America/New_York:20221209T113000
DTSTAMP:20260421T213414
CREATED:20250526T080228Z
LAST-MODIFIED:20250526T080228Z
UID:10000107-1670578200-1670585400@www.capitalareajustice.org
SUMMARY:CAJM Clergy/Lay Caucus
DESCRIPTION:
URL:https://www.capitalareajustice.org/event/cajm-clergy-lay-caucus/
LOCATION:tbd
ATTACH;FMTTYPE=image/webp:https://www.capitalareajustice.org/wp-content/uploads/CAJM-Clergy-Board-Meeting-1-1.webp
END:VEVENT
END:VCALENDAR