BEGIN:VCALENDAR
VERSION:2.0
PRODID:-//Capital Area Justice Ministry - ECPv6.15.20//NONSGML v1.0//EN
CALSCALE:GREGORIAN
METHOD:PUBLISH
X-ORIGINAL-URL:https://www.capitalareajustice.org
X-WR-CALDESC:Events for Capital Area Justice Ministry
REFRESH-INTERVAL;VALUE=DURATION:PT1H
X-Robots-Tag:noindex
X-PUBLISHED-TTL:PT1H
BEGIN:VTIMEZONE
TZID:America/New_York
BEGIN:DAYLIGHT
TZOFFSETFROM:-0500
TZOFFSETTO:-0400
TZNAME:EDT
DTSTART:20220313T070000
END:DAYLIGHT
BEGIN:STANDARD
TZOFFSETFROM:-0400
TZOFFSETTO:-0500
TZNAME:EST
DTSTART:20221106T060000
END:STANDARD
BEGIN:DAYLIGHT
TZOFFSETFROM:-0500
TZOFFSETTO:-0400
TZNAME:EDT
DTSTART:20230312T070000
END:DAYLIGHT
BEGIN:STANDARD
TZOFFSETFROM:-0400
TZOFFSETTO:-0500
TZNAME:EST
DTSTART:20231105T060000
END:STANDARD
BEGIN:DAYLIGHT
TZOFFSETFROM:-0500
TZOFFSETTO:-0400
TZNAME:EDT
DTSTART:20240310T070000
END:DAYLIGHT
BEGIN:STANDARD
TZOFFSETFROM:-0400
TZOFFSETTO:-0500
TZNAME:EST
DTSTART:20241103T060000
END:STANDARD
BEGIN:DAYLIGHT
TZOFFSETFROM:-0500
TZOFFSETTO:-0400
TZNAME:EDT
DTSTART:20250309T070000
END:DAYLIGHT
BEGIN:STANDARD
TZOFFSETFROM:-0400
TZOFFSETTO:-0500
TZNAME:EST
DTSTART:20251102T060000
END:STANDARD
BEGIN:DAYLIGHT
TZOFFSETFROM:-0500
TZOFFSETTO:-0400
TZNAME:EDT
DTSTART:20260308T070000
END:DAYLIGHT
BEGIN:STANDARD
TZOFFSETFROM:-0400
TZOFFSETTO:-0500
TZNAME:EST
DTSTART:20261101T060000
END:STANDARD
END:VTIMEZONE
BEGIN:VEVENT
DTSTART;TZID=America/New_York:20250617T180000
DTEND;TZID=America/New_York:20250617T200000
DTSTAMP:20260423T053729
CREATED:20250613T111957Z
LAST-MODIFIED:20251112T201155Z
UID:10000108-1750183200-1750190400@www.capitalareajustice.org
SUMMARY:CAJM Board Meeting
DESCRIPTION:
URL:https://www.capitalareajustice.org/event/061725-cajm-board-meeting/
LOCATION:Saint Paul’s United Methodist Church\, 1700 N Meridian Rd\, Tallahassee\, FL\, 32303\, United States
ATTACH;FMTTYPE=image/webp:https://www.capitalareajustice.org/wp-content/uploads/CAJM-Clergy-Board-Meeting-1-1.webp
END:VEVENT
BEGIN:VEVENT
DTSTART;TZID=America/New_York:20240227T180000
DTEND;TZID=America/New_York:20240227T193000
DTSTAMP:20260423T053729
CREATED:20250526T073656Z
LAST-MODIFIED:20250526T073656Z
UID:10000089-1709056800-1709062200@www.capitalareajustice.org
SUMMARY:Team Leaders Assembly
DESCRIPTION:CAJM Clergy and Team Leaders will gather to share their network-building progress and plan the 3/18 Pep Rally!  \n\n\nAffirm how many you will bring from your congregation to the Pep Rally! \n\n\nHear the latest on our fight to curb gun violence and increase the number of rentals struggling families can afford \n\n\nPlan next steps for the CAJM movement
URL:https://www.capitalareajustice.org/event/team-leaders-assembly-3/
LOCATION:Saint Paul’s United Methodist Church\, 1700 N Meridian Rd\, Tallahassee\, FL\, 32303\, United States
ATTACH;FMTTYPE=image/webp:https://www.capitalareajustice.org/wp-content/uploads/Team-Leaders-Assembly-1-1.webp
END:VEVENT
BEGIN:VEVENT
DTSTART;TZID=America/New_York:20231212T180000
DTEND;TZID=America/New_York:20231212T190000
DTSTAMP:20260423T053729
CREATED:20250520T182845Z
LAST-MODIFIED:20250520T182845Z
UID:10000037-1702404000-1702407600@www.capitalareajustice.org
SUMMARY:Action Kick-Off
DESCRIPTION:Our research committees made up of clergy\, team leaders\, and network members will strategize on next steps for our issue campaigns to prepare for our Nehemiah Action on March 19\, 2024.  Go to Resources for background info and News for latest updates.
URL:https://www.capitalareajustice.org/event/action-kick-off/
LOCATION:Saint Paul’s United Methodist Church\, 1700 N Meridian Rd\, Tallahassee\, FL\, 32303\, United States
ATTACH;FMTTYPE=image/webp:https://www.capitalareajustice.org/wp-content/uploads/Action-Kick-Off.webp
END:VEVENT
END:VCALENDAR