BEGIN:VCALENDAR
VERSION:2.0
PRODID:-//Capital Area Justice Ministry - ECPv6.15.20//NONSGML v1.0//EN
CALSCALE:GREGORIAN
METHOD:PUBLISH
X-ORIGINAL-URL:https://www.capitalareajustice.org
X-WR-CALDESC:Events for Capital Area Justice Ministry
REFRESH-INTERVAL;VALUE=DURATION:PT1H
X-Robots-Tag:noindex
X-PUBLISHED-TTL:PT1H
BEGIN:VTIMEZONE
TZID:America/New_York
BEGIN:DAYLIGHT
TZOFFSETFROM:-0500
TZOFFSETTO:-0400
TZNAME:EDT
DTSTART:20210314T070000
END:DAYLIGHT
BEGIN:STANDARD
TZOFFSETFROM:-0400
TZOFFSETTO:-0500
TZNAME:EST
DTSTART:20211107T060000
END:STANDARD
BEGIN:DAYLIGHT
TZOFFSETFROM:-0500
TZOFFSETTO:-0400
TZNAME:EDT
DTSTART:20220313T070000
END:DAYLIGHT
BEGIN:STANDARD
TZOFFSETFROM:-0400
TZOFFSETTO:-0500
TZNAME:EST
DTSTART:20221106T060000
END:STANDARD
BEGIN:DAYLIGHT
TZOFFSETFROM:-0500
TZOFFSETTO:-0400
TZNAME:EDT
DTSTART:20230312T070000
END:DAYLIGHT
BEGIN:STANDARD
TZOFFSETFROM:-0400
TZOFFSETTO:-0500
TZNAME:EST
DTSTART:20231105T060000
END:STANDARD
BEGIN:DAYLIGHT
TZOFFSETFROM:-0500
TZOFFSETTO:-0400
TZNAME:EDT
DTSTART:20240310T070000
END:DAYLIGHT
BEGIN:STANDARD
TZOFFSETFROM:-0400
TZOFFSETTO:-0500
TZNAME:EST
DTSTART:20241103T060000
END:STANDARD
BEGIN:DAYLIGHT
TZOFFSETFROM:-0500
TZOFFSETTO:-0400
TZNAME:EDT
DTSTART:20250309T070000
END:DAYLIGHT
BEGIN:STANDARD
TZOFFSETFROM:-0400
TZOFFSETTO:-0500
TZNAME:EST
DTSTART:20251102T060000
END:STANDARD
END:VTIMEZONE
BEGIN:VEVENT
DTSTART;TZID=America/New_York:20240317T140000
DTEND;TZID=America/New_York:20240317T160000
DTSTAMP:20260421T165503
CREATED:20250520T174600Z
LAST-MODIFIED:20250520T174625Z
UID:10000021-1710684000-1710691200@www.capitalareajustice.org
SUMMARY:Tech Committee
DESCRIPTION:
URL:https://www.capitalareajustice.org/event/tech-committee/
LOCATION:120 W Park Ave\, 120 W Park Ave\, Tallahassee\, FL\, 32301\, United States
ATTACH;FMTTYPE=image/webp:https://www.capitalareajustice.org/wp-content/uploads/Tech-Committee-.webp
END:VEVENT
BEGIN:VEVENT
DTSTART;TZID=America/New_York:20240306T190000
DTEND;TZID=America/New_York:20240306T230000
DTSTAMP:20260421T165503
CREATED:20250526T074543Z
LAST-MODIFIED:20250526T074543Z
UID:10000095-1709751600-1709766000@www.capitalareajustice.org
SUMMARY:Pam & Leah testing
DESCRIPTION:These are terrific conversations…. join us!
URL:https://www.capitalareajustice.org/event/pam-leah-testing/
LOCATION:120 W Park Ave\, 120 W Park Ave\, Tallahassee\, FL\, 32301\, United States
END:VEVENT
BEGIN:VEVENT
DTSTART;TZID=America/New_York:20230919T080000
DTEND;TZID=America/New_York:20230919T170000
DTSTAMP:20260421T165503
CREATED:20250520T173149Z
LAST-MODIFIED:20250520T173149Z
UID:10000018-1695110400-1695142800@www.capitalareajustice.org
SUMMARY:House Meeting Kick-Off
DESCRIPTION:Team leaders and clergy prepare to lead house meetings within their congregations and focus around inviting people “back to church”.
URL:https://www.capitalareajustice.org/event/house-meeting-kick-off/
LOCATION:120 W Park Ave\, 120 W Park Ave\, Tallahassee\, FL\, 32301\, United States
ATTACH;FMTTYPE=image/webp:https://www.capitalareajustice.org/wp-content/uploads/House-Meeting-Kick-Off-.webp
END:VEVENT
BEGIN:VEVENT
DTSTART;TZID=America/New_York:20220202T090000
DTEND;TZID=America/New_York:20220202T113000
DTSTAMP:20260421T165503
CREATED:20250522T174252Z
LAST-MODIFIED:20250522T174252Z
UID:10000052-1643792400-1643801400@www.capitalareajustice.org
SUMMARY:Housing Research: Insights on the evictions problem (Legal Services of North Fla)
DESCRIPTION:
URL:https://www.capitalareajustice.org/event/housing-research-insights-on-the-evictions-problem-legal-services-of-north-fla/
LOCATION:120 W Park Ave\, 120 W Park Ave\, Tallahassee\, FL\, 32301\, United States
ATTACH;FMTTYPE=image/webp:https://www.capitalareajustice.org/wp-content/uploads/Housing-Research-Insights-on-the-evictions-problem-Legal-Services-of-North-Fla-.webp
END:VEVENT
END:VCALENDAR